BEGIN:VCALENDAR
VERSION:2.0
PRODID:-//Serenity Mesa - ECPv6.15.20//NONSGML v1.0//EN
CALSCALE:GREGORIAN
METHOD:PUBLISH
X-WR-CALNAME:Serenity Mesa
X-ORIGINAL-URL:https://www.serenitymesa.org
X-WR-CALDESC:Events for Serenity Mesa
REFRESH-INTERVAL;VALUE=DURATION:PT1H
X-Robots-Tag:noindex
X-PUBLISHED-TTL:PT1H
BEGIN:VTIMEZONE
TZID:America/Denver
BEGIN:DAYLIGHT
TZOFFSETFROM:-0700
TZOFFSETTO:-0600
TZNAME:MDT
DTSTART:20250309T090000
END:DAYLIGHT
BEGIN:STANDARD
TZOFFSETFROM:-0600
TZOFFSETTO:-0700
TZNAME:MST
DTSTART:20251102T080000
END:STANDARD
BEGIN:DAYLIGHT
TZOFFSETFROM:-0700
TZOFFSETTO:-0600
TZNAME:MDT
DTSTART:20260308T090000
END:DAYLIGHT
BEGIN:STANDARD
TZOFFSETFROM:-0600
TZOFFSETTO:-0700
TZNAME:MST
DTSTART:20261101T080000
END:STANDARD
BEGIN:DAYLIGHT
TZOFFSETFROM:-0700
TZOFFSETTO:-0600
TZNAME:MDT
DTSTART:20270314T090000
END:DAYLIGHT
BEGIN:STANDARD
TZOFFSETFROM:-0600
TZOFFSETTO:-0700
TZNAME:MST
DTSTART:20271107T080000
END:STANDARD
END:VTIMEZONE
BEGIN:VEVENT
DTSTART;TZID=America/Denver:20260425T080000
DTEND;TZID=America/Denver:20260425T130000
DTSTAMP:20260424T093013
CREATED:20260218T135307Z
LAST-MODIFIED:20260218T135307Z
UID:492-1777104000-1777122000@www.serenitymesa.org
SUMMARY:H.A.C's 12th Annual Charity Golf Tournament
DESCRIPTION:Hey Golfers and Sponsors! \nOur 2026 annual golf tournament benefiting Serenity Mesa Adolescent Recovery Center is happening on Saturday April 25th 2026 at 8am. Location will be at UNM South Championship Course at 3601 University Drive. This exciting annual event brings together community members\, sponsors\, and supporters for a day of fun\, friendly competition\, for a purpose. \nTeam Registration:  \nTeam of 4- $600\, Individual- $150 \nSponsor Registration:  \nClub Sponsor- $300\, Par Sponsor (includes 4 tickets)- $800\, Birdie Sponsor (includes 4 tickets)- $1000\, Eagle Sponsor (includes 4 tickets)- $2500\, Hole in One Sponsor (includes 12 tickets)- $5000\, Title Sponsor (Includes 16 tickets)- $10000. \nRegister Today!  \nSpots fill quickly\, secure your team or sponsorship today!
URL:https://www.serenitymesa.org/event/h-a-cs-12th-annual-charity-golf-tournament/
LOCATION:UNM South Golf Course\, 3601 University Blvd. SE\, Albuquerque\, NM\, 87106\, United States
END:VEVENT
END:VCALENDAR